BEGIN:VCALENDAR
VERSION:2.0
PRODID:-//wp-events-plugin.com//7.2.3.1//EN
TZID:America/Toronto
X-WR-TIMEZONE:America/Toronto
BEGIN:VEVENT
UID:3@orh.ca
DTSTART;TZID=America/Toronto:20250711T173000
DTEND;TZID=America/Toronto:20250711T183000
DTSTAMP:20250711T202118Z
URL:https://www.orh.ca/events/teddy-bear-shabbat/
SUMMARY:Teddy Bear Shabbat
DESCRIPTION:Welcome Shabbat with Rabbi Zuker in this family-friendly event.
   Sing Shabbat songs and enjoy snacks and cupcakes\n\nThis is a program g
 eared at families with young kids. All ages are welcome. All exceptionalit
 ies are welcome. All stuffies welcome!\nRegister HERE
CATEGORIES:Family Event
END:VEVENT
BEGIN:VTIMEZONE
TZID:America/Toronto
X-LIC-LOCATION:America/Toronto
BEGIN:DAYLIGHT
DTSTART:20250309T030000
TZOFFSETFROM:-0500
TZOFFSETTO:-0400
TZNAME:EDT
END:DAYLIGHT
END:VTIMEZONE
END:VCALENDAR