BEGIN:VCALENDAR
VERSION:2.0
PRODID:-//wp-events-plugin.com//7.2.3.1//EN
TZID:America/Toronto
X-WR-TIMEZONE:America/Toronto
BEGIN:VEVENT
UID:11@orh.ca
DTSTART;TZID=America/Toronto:20250914T140000
DTEND;TZID=America/Toronto:20250914T160000
DTSTAMP:20250812T204943Z
URL:https://www.orh.ca/events/hebrew-crash-course-4/
SUMMARY:Hebrew Crash Course
DESCRIPTION:Hebrew Crash Course with Rabbi Zuker\n\nTake your Hebrew skills
  from zero to High-Holidays-Ready with Rabbi Zuker’s 4-week Hebrew Crash
  Course.\n\nLearn more and register here.
CATEGORIES:Adult Education
LOCATION:Room 5 of 30 Cleary Ave.\, 30 Cleary Ave.\, Ottawa\, Ontario\, K2A
  4A1\, Canada
X-APPLE-STRUCTURED-LOCATION;VALUE=URI;X-ADDRESS=30 Cleary Ave.\, Ottawa\, O
 ntario\, K2A 4A1\, Canada;X-APPLE-RADIUS=100;X-TITLE=Room 5 of 30 Cleary A
 ve.:geo:0,0
END:VEVENT
BEGIN:VTIMEZONE
TZID:America/Toronto
X-LIC-LOCATION:America/Toronto
BEGIN:DAYLIGHT
DTSTART:20250309T030000
TZOFFSETFROM:-0500
TZOFFSETTO:-0400
TZNAME:EDT
END:DAYLIGHT
END:VTIMEZONE
END:VCALENDAR